BEGIN:VCALENDAR
VERSION:2.0
PRODID:-//wp-events-plugin.com//6.4.6.4//EN
TZID:Europe/Berlin
X-WR-TIMEZONE:Europe/Berlin
BEGIN:VEVENT
UID:1034@stephans-fahrschule.info
DTSTART;TZID=Europe/Berlin;VALUE=DATE:20251222
DTEND;TZID=Europe/Berlin;VALUE=DATE:20260108
DTSTAMP:20251201T170123Z
URL:https://www.stephans-fahrschule.info/events/weihnachtsferien-vom-22-12
 -2025-bis-07-01-2026-erster-unterricht-2026-in-leck-am-donnerstag-08-01-20
 26-in-suederluegum-am-dienstag-13-01-2026/
SUMMARY:Weihnachtsferien vom 22.12.2025 bis 07.01.2026 erster Unterricht 20
 26 in Leck am Donnerstag\, 08.01.2026 in Süderlügum am Dienstag\, 13.01.
 2026
DESCRIPTION:Wir wüschen Euch frohe Weihnachten und einen guten Rutsch ins 
 Jahr 2026
END:VEVENT
BEGIN:VTIMEZONE
TZID:Europe/Berlin
X-LIC-LOCATION:Europe/Berlin
BEGIN:STANDARD
DTSTART:20251026T020000
TZOFFSETFROM:+0200
TZOFFSETTO:+0100
TZNAME:CET
END:STANDARD
END:VTIMEZONE
END:VCALENDAR