BEGIN:VCALENDAR
VERSION:2.0
PRODID:-//wp-events-plugin.com//6.4.6.4//EN
TZID:Europe/Berlin
X-WR-TIMEZONE:Europe/Berlin
BEGIN:VEVENT
UID:148@stephans-fahrschule.info
DTSTART;TZID=Europe/Berlin:20201208T183000
DTEND;TZID=Europe/Berlin:20201208T200000
DTSTAMP:20201126T164824Z
URL:https://www.stephans-fahrschule.info/events/theorieunterricht-am-diens
 tag-08-12-2020-um-1830-uhr-in-suederluegum-thema-6/
SUMMARY:Theorieunterricht am Dienstag\, 08.12.2020 um 18:30 Uhr in Süderl
 ügum Thema 6
DESCRIPTION:Thema „Verkehrsregelungen/Bahnübergänge“\n\nAnmeldung per
  Klick auf buchen.\n\nLeider ist durch die Abstandsregelung nur eine begre
 nzte Anzahl an Plätzen möglich. Falls ihr verhindert seid\, lasst es uns
  bitte wissen\, dann können wir den Platz wieder freigeben. 
LOCATION:Stephans Fahrschule\, Norderstraße 6\, 25923 Süderlügum\, Norde
 rstraße 6\, Süderlügum\, S-H\, 25923\, Deutschland
X-APPLE-STRUCTURED-LOCATION;VALUE=URI;X-ADDRESS=Norderstraße 6\, Süderlü
 gum\, S-H\, 25923\, Deutschland;X-APPLE-RADIUS=100;X-TITLE=Stephans Fahrsc
 hule\, Norderstraße 6\, 25923 Süderlügum:geo:0,0
END:VEVENT
BEGIN:VTIMEZONE
TZID:Europe/Berlin
X-LIC-LOCATION:Europe/Berlin
BEGIN:STANDARD
DTSTART:20201025T020000
TZOFFSETFROM:+0200
TZOFFSETTO:+0100
TZNAME:CET
END:STANDARD
END:VTIMEZONE
END:VCALENDAR