BEGIN:VCALENDAR
VERSION:2.0
PRODID:-//wp-events-plugin.com//6.4.6.4//EN
TZID:Europe/Berlin
X-WR-TIMEZONE:Europe/Berlin
BEGIN:VEVENT
UID:146@stephans-fahrschule.info
DTSTART;TZID=Europe/Berlin:20201208T183000
DTEND;TZID=Europe/Berlin:20201208T200000
DTSTAMP:20201126T164415Z
URL:https://www.stephans-fahrschule.info/events/theorieunterricht-am-diens
 tag-08-12-2020-um-1830-uhr-in-leck-thema-7/
SUMMARY:Theorieunterricht am Dienstag\, 08.12.2020 um 18:30 Uhr in Leck The
 ma 7
DESCRIPTION:Thema „Geschwindigkeit\, Abstand und umweltschonende Fahrweis
 e“\n\nAnmeldung per Klick auf buchen.\n\nLeider ist durch die Abstandsre
 gelung nur eine begrenzte Anzahl an Plätzen möglich. Falls ihr verhinder
 t seid\, lasst es uns bitte wissen\, dann können wir den Platz wieder fre
 igeben. 
LOCATION:Stephans Fahrtschule\, Hauptstraße 40\, Leck\, Hauptstraße 40\, 
 25917 Leck\, S-H\, 25917\, Deutschland
X-APPLE-STRUCTURED-LOCATION;VALUE=URI;X-ADDRESS=Hauptstraße 40\, 25917 Lec
 k\, S-H\, 25917\, Deutschland;X-APPLE-RADIUS=100;X-TITLE=Stephans Fahrtsch
 ule\, Hauptstraße 40\, Leck:geo:0,0
END:VEVENT
BEGIN:VTIMEZONE
TZID:Europe/Berlin
X-LIC-LOCATION:Europe/Berlin
BEGIN:STANDARD
DTSTART:20201025T020000
TZOFFSETFROM:+0200
TZOFFSETTO:+0100
TZNAME:CET
END:STANDARD
END:VTIMEZONE
END:VCALENDAR