BEGIN:VCALENDAR
VERSION:2.0
PRODID:-//wp-events-plugin.com//6.4.6.4//EN
TZID:Europe/Berlin
X-WR-TIMEZONE:Europe/Berlin
BEGIN:VEVENT
UID:981@stephans-fahrschule.info
DTSTART;TZID=Europe/Berlin:20250728T000000
DTEND;TZID=Europe/Berlin:20250906T000000
DTSTAMP:20250728T131619Z
URL:https://www.stephans-fahrschule.info/events/sommerferien-28-07-06-09-2
 025-in-sueerluegum-in-leck-wie-gehabt-dienstag-und-donnerstags-unterricht/
SUMMARY:Sommerferien 28.07.-06.09.2025 in Süderlügum - in Leck wie gehabt
  Dienstag und Donnerstags Unterricht
DESCRIPTION:In Leck ist das Büro auch während der Ferien Di und Do ab 17:
 00 Uhr bis 18:30 Uhr geöffnet\n\nUnterricht findet in Leck Dienstags und 
 Donnerstags ab 18:30 Uhr statt.\n\n&nbsp\;
END:VEVENT
BEGIN:VTIMEZONE
TZID:Europe/Berlin
X-LIC-LOCATION:Europe/Berlin
BEGIN:DAYLIGHT
DTSTART:20250330T030000
TZOFFSETFROM:+0100
TZOFFSETTO:+0200
TZNAME:CEST
END:DAYLIGHT
END:VTIMEZONE
END:VCALENDAR