BEGIN:VCALENDAR
VERSION:2.0
PRODID:-//wp-events-plugin.com//6.4.6.4//EN
TZID:Europe/Berlin
X-WR-TIMEZONE:Europe/Berlin
BEGIN:VEVENT
UID:1001@stephans-fahrschule.info
DTSTART;TZID=Europe/Berlin:20250924T183000
DTEND;TZID=Europe/Berlin:20250924T200000
DTSTAMP:20250915T080724Z
URL:https://www.stephans-fahrschule.info/events/mittwoch-24-09-2025-um-183
 0-uhr-theorie-unterricht-in-leck-achtung-zusatz-zweirad/
SUMMARY:Mittwoch\, 24.09..2025 um 18:30 Uhr Theorie-Unterricht in Leck ACHT
 UNG ZUSATZ Zweirad
DESCRIPTION:Lektion 2\n\nACHTUNG NUR Zweirad-KLassen\n\nFahrtechnuk und Fah
 rphysik
LOCATION:Stephans Fahrschule\, Hauptstr. 40 \; 25917 Leck\, Hauptstr. 40\, 
 25917 Leck\, S-H\, 25917 Leck\, Deutschland
X-APPLE-STRUCTURED-LOCATION;VALUE=URI;X-ADDRESS=Hauptstr. 40\, 25917 Leck\,
  S-H\, 25917 Leck\, Deutschland;X-APPLE-RADIUS=100;X-TITLE=Stephans Fahrsc
 hule\, Hauptstr. 40 ; 25917 Leck:geo:0,0
END:VEVENT
BEGIN:VTIMEZONE
TZID:Europe/Berlin
X-LIC-LOCATION:Europe/Berlin
BEGIN:DAYLIGHT
DTSTART:20250330T030000
TZOFFSETFROM:+0100
TZOFFSETTO:+0200
TZNAME:CEST
END:DAYLIGHT
END:VTIMEZONE
END:VCALENDAR