BEGIN:VCALENDAR
VERSION:2.0
PRODID:-//wp-events-plugin.com//6.4.6.4//EN
TZID:Europe/Berlin
X-WR-TIMEZONE:Europe/Berlin
BEGIN:VEVENT
UID:1086@stephans-fahrschule.info
DTSTART;TZID=Europe/Berlin:20260423T183000
DTEND;TZID=Europe/Berlin:20260423T200000
DTSTAMP:20260408T134124Z
URL:https://www.stephans-fahrschule.info/events/donnerstag-23-04-2026-um-1
 830-uhr-theoretischer-unterricht-in-leck-thema-5/
SUMMARY:Donnerstag\, 23.04.2026 um 18:30 Uhr Theoretischer Unterricht in Le
 ck Thema 5
DESCRIPTION:Lektion 5\n\nVorfahrt
LOCATION:Stephans Fahrschule\, Hauptstr. 40 \; 25917 Leck\, Hauptstr. 40\, 
 25917 Leck\, S-H\, 25917 Leck\, Deutschland
X-APPLE-STRUCTURED-LOCATION;VALUE=URI;X-ADDRESS=Hauptstr. 40\, 25917 Leck\,
  S-H\, 25917 Leck\, Deutschland;X-APPLE-RADIUS=100;X-TITLE=Stephans Fahrsc
 hule\, Hauptstr. 40 ; 25917 Leck:geo:0,0
END:VEVENT
BEGIN:VTIMEZONE
TZID:Europe/Berlin
X-LIC-LOCATION:Europe/Berlin
BEGIN:DAYLIGHT
DTSTART:20260329T030000
TZOFFSETFROM:+0100
TZOFFSETTO:+0200
TZNAME:CEST
END:DAYLIGHT
END:VTIMEZONE
END:VCALENDAR