BEGIN:VCALENDAR
VERSION:2.0
PRODID:-//wp-events-plugin.com//6.4.6.4//EN
TZID:Europe/Berlin
X-WR-TIMEZONE:Europe/Berlin
BEGIN:VEVENT
UID:742@stephans-fahrschule.info
DTSTART;TZID=Europe/Berlin:20240215T183000
DTEND;TZID=Europe/Berlin:20240215T200000
DTSTAMP:20240205T160438Z
URL:https://www.stephans-fahrschule.info/events/donnerstag-15-02-2024-theo
 rie-unterricht-um-1830-uhr-in-leck-thema-8/
SUMMARY:Donnerstag\, 15.02.2024 Theorie-Unterricht um 18:30 Uhr in Leck The
 ma 8
DESCRIPTION:Lektion 8\n\nAndere Teilnehmer im Straßenverkehr: Besonderheit
 en und Verhalten
LOCATION:Stephans Fahrtschule\, Hauptstraße 40\, Leck\, Hauptstraße 40\, 
 25917 Leck\, S-H\, 25917\, Deutschland
X-APPLE-STRUCTURED-LOCATION;VALUE=URI;X-ADDRESS=Hauptstraße 40\, 25917 Lec
 k\, S-H\, 25917\, Deutschland;X-APPLE-RADIUS=100;X-TITLE=Stephans Fahrtsch
 ule\, Hauptstraße 40\, Leck:geo:0,0
END:VEVENT
BEGIN:VTIMEZONE
TZID:Europe/Berlin
X-LIC-LOCATION:Europe/Berlin
BEGIN:STANDARD
DTSTART:20231029T020000
TZOFFSETFROM:+0200
TZOFFSETTO:+0100
TZNAME:CET
END:STANDARD
END:VTIMEZONE
END:VCALENDAR