BEGIN:VCALENDAR
VERSION:2.0
PRODID:-//wp-events-plugin.com//6.4.6.4//EN
TZID:Europe/Berlin
X-WR-TIMEZONE:Europe/Berlin
BEGIN:VEVENT
UID:811@stephans-fahrschule.info
DTSTART;TZID=Europe/Berlin:20240711T183000
DTEND;TZID=Europe/Berlin:20240711T200000
DTSTAMP:20240705T095124Z
URL:https://www.stephans-fahrschule.info/events/donnerstag-11-07-2024-um-1
 830-uhr-theorie-unterricht-in-leck-thema-7/
SUMMARY:Donnerstag\, 11.07.2024 um 18:30 Uhr Theorie-Unterricht in Leck The
 ma  7
DESCRIPTION:Lektion 7\n\nGeschwindigkeit\, Abstand und umweltschonende Fahr
 weise
LOCATION:Stephans Fahrtschule\, Hauptstraße 40\, Leck\, Hauptstraße 40\, 
 25917 Leck\, S-H\, 25917\, Deutschland
X-APPLE-STRUCTURED-LOCATION;VALUE=URI;X-ADDRESS=Hauptstraße 40\, 25917 Lec
 k\, S-H\, 25917\, Deutschland;X-APPLE-RADIUS=100;X-TITLE=Stephans Fahrtsch
 ule\, Hauptstraße 40\, Leck:geo:0,0
END:VEVENT
BEGIN:VTIMEZONE
TZID:Europe/Berlin
X-LIC-LOCATION:Europe/Berlin
BEGIN:DAYLIGHT
DTSTART:20240331T030000
TZOFFSETFROM:+0100
TZOFFSETTO:+0200
TZNAME:CEST
END:DAYLIGHT
END:VTIMEZONE
END:VCALENDAR