BEGIN:VCALENDAR
VERSION:2.0
PRODID:-//wp-events-plugin.com//6.4.6.4//EN
TZID:Europe/Berlin
X-WR-TIMEZONE:Europe/Berlin
BEGIN:VEVENT
UID:1035@stephans-fahrschule.info
DTSTART;TZID=Europe/Berlin:20260108T183000
DTEND;TZID=Europe/Berlin:20260108T200000
DTSTAMP:20251227T161305Z
URL:https://www.stephans-fahrschule.info/events/donnerstag-08-01-2025-um-1
 830-uhr-theoretischer-unterricht-in-leck-thema-3/
SUMMARY:Donnerstag\, 08.01.2025 um 18:30 Uhr Theoretischer Unterricht in Le
 ck Thema 3
DESCRIPTION:Lektion 3\n\nVerkehrszeichen\, Verkehrsregelungen\n\nGrundregel
  des Straßenverkehrs
LOCATION:Stephans Fahrtschule\, Hauptstraße 40\, Leck\, Hauptstraße 40\, 
 25917 Leck\, S-H\, 25917\, Deutschland
X-APPLE-STRUCTURED-LOCATION;VALUE=URI;X-ADDRESS=Hauptstraße 40\, 25917 Lec
 k\, S-H\, 25917\, Deutschland;X-APPLE-RADIUS=100;X-TITLE=Stephans Fahrtsch
 ule\, Hauptstraße 40\, Leck:geo:0,0
END:VEVENT
BEGIN:VTIMEZONE
TZID:Europe/Berlin
X-LIC-LOCATION:Europe/Berlin
BEGIN:STANDARD
DTSTART:20251026T020000
TZOFFSETFROM:+0200
TZOFFSETTO:+0100
TZNAME:CET
END:STANDARD
END:VTIMEZONE
END:VCALENDAR