BEGIN:VCALENDAR
VERSION:2.0
PRODID:-//wp-events-plugin.com//6.4.6.4//EN
TZID:Europe/Berlin
X-WR-TIMEZONE:Europe/Berlin
BEGIN:VEVENT
UID:462@stephans-fahrschule.info
DTSTART;TZID=Europe/Berlin:20220901T183000
DTEND;TZID=Europe/Berlin:20220901T200000
DTSTAMP:20220823T143233Z
URL:https://www.stephans-fahrschule.info/events/donnerstag-01-09-2022-um-1
 830-uhr-zusatz-unterricht-auto-in-suederluegum-thema-14/
SUMMARY:Donnerstag\, 01.09.2022 um 18:30 Uhr Zusatz-Unterricht Auto in Süd
 erlügum Thema 14
DESCRIPTION:Thema "Fahren mit Solokraftfahrzeugen und Zügen\, Personen- un
 d Güterbeförderung"
LOCATION:Stephans Fahrschule\, Norderstraße 6\, 25923 Süderlügum\, Norde
 rstraße 6\, Süderlügum\, S-H\, 25923\, Deutschland
X-APPLE-STRUCTURED-LOCATION;VALUE=URI;X-ADDRESS=Norderstraße 6\, Süderlü
 gum\, S-H\, 25923\, Deutschland;X-APPLE-RADIUS=100;X-TITLE=Stephans Fahrsc
 hule\, Norderstraße 6\, 25923 Süderlügum:geo:0,0
END:VEVENT
BEGIN:VTIMEZONE
TZID:Europe/Berlin
X-LIC-LOCATION:Europe/Berlin
BEGIN:DAYLIGHT
DTSTART:20220327T030000
TZOFFSETFROM:+0100
TZOFFSETTO:+0200
TZNAME:CEST
END:DAYLIGHT
END:VTIMEZONE
END:VCALENDAR