BEGIN:VCALENDAR
VERSION:2.0
PRODID:-//wp-events-plugin.com//6.4.6.4//EN
TZID:Europe/Berlin
X-WR-TIMEZONE:Europe/Berlin
BEGIN:VEVENT
UID:905@stephans-fahrschule.info
DTSTART;TZID=Europe/Berlin:20250225T183000
DTEND;TZID=Europe/Berlin:20250225T200000
DTSTAMP:20250210T172223Z
URL:https://www.stephans-fahrschule.info/events/dienstag25-02-2025-um-1830
 -uhr-theorie-untericht-in-suederluegum-thema-13-achtung-nur-klasse-b/
SUMMARY:Dienstag\,25.02.2025 um 18:30 Uhr Theorie-Untericht in Süderlügum
  Thema 13 ACHTUNG NUR KLASSE B
DESCRIPTION:Lektion 13\n\nTechnische BEdingungeUmweltbewusster Umgang mit d
 em KFZ
LOCATION:Stephans Fahrschule\, Norderstraße 6\, 25923 Süderlügum\, Norde
 rstraße 6\, Süderlügum\, S-H\, 25923\, Deutschland
X-APPLE-STRUCTURED-LOCATION;VALUE=URI;X-ADDRESS=Norderstraße 6\, Süderlü
 gum\, S-H\, 25923\, Deutschland;X-APPLE-RADIUS=100;X-TITLE=Stephans Fahrsc
 hule\, Norderstraße 6\, 25923 Süderlügum:geo:0,0
END:VEVENT
BEGIN:VTIMEZONE
TZID:Europe/Berlin
X-LIC-LOCATION:Europe/Berlin
BEGIN:STANDARD
DTSTART:20241027T020000
TZOFFSETFROM:+0200
TZOFFSETTO:+0100
TZNAME:CET
END:STANDARD
END:VTIMEZONE
END:VCALENDAR