BEGIN:VCALENDAR
VERSION:2.0
PRODID:-//wp-events-plugin.com//6.4.6.4//EN
TZID:Europe/Berlin
X-WR-TIMEZONE:Europe/Berlin
BEGIN:VEVENT
UID:1087@stephans-fahrschule.info
DTSTART;TZID=Europe/Berlin:20260421T183000
DTEND;TZID=Europe/Berlin:20260421T200000
DTSTAMP:20260408T134337Z
URL:https://www.stephans-fahrschule.info/events/dienstag-21-04-2026-um-183
 0-uhr-theoretischer-unterricht-in-suederluegum-thema-7/
SUMMARY:Dienstag\, 21.04.2026 um 18:30 Uhr Theoretischer Unterricht in Süd
 erlügum Thema 7
DESCRIPTION:Lektion 7\n\nGEschwindigkeit. Abstand und umweltschonende Fahrw
 eise
LOCATION:Stephans Fahrschule\, Norderstraße 6\, 25923 Süderlügum\, Norde
 rstraße 6\, Süderlügum\, S-H\, 25923\, Deutschland
X-APPLE-STRUCTURED-LOCATION;VALUE=URI;X-ADDRESS=Norderstraße 6\, Süderlü
 gum\, S-H\, 25923\, Deutschland;X-APPLE-RADIUS=100;X-TITLE=Stephans Fahrsc
 hule\, Norderstraße 6\, 25923 Süderlügum:geo:0,0
END:VEVENT
BEGIN:VTIMEZONE
TZID:Europe/Berlin
X-LIC-LOCATION:Europe/Berlin
BEGIN:DAYLIGHT
DTSTART:20260329T030000
TZOFFSETFROM:+0100
TZOFFSETTO:+0200
TZNAME:CEST
END:DAYLIGHT
END:VTIMEZONE
END:VCALENDAR