BEGIN:VCALENDAR
VERSION:2.0
PRODID:-//wp-events-plugin.com//6.4.6.4//EN
TZID:Europe/Berlin
X-WR-TIMEZONE:Europe/Berlin
BEGIN:VEVENT
UID:465@stephans-fahrschule.info
DTSTART;TZID=Europe/Berlin:20220906T183000
DTEND;TZID=Europe/Berlin:20220906T200000
DTSTAMP:20220830T145227Z
URL:https://www.stephans-fahrschule.info/events/dienstag-06-09-2022-um-183
 0-uhr-praesenz-unterricht-in-suederluegum-thema-1/
SUMMARY:Dienstag\, 06.09.2022 um 18:30 Uhr Präsenz-Unterricht in Süderlü
 gum Thema 1
DESCRIPTION:Thema "Persönliche Voraussetzungen/Risikofaktor Mensch"
LOCATION:Stephans Fahrschule\, Norderstraße 6\, 25923 Süderlügum\, Norde
 rstraße 6\, Süderlügum\, S-H\, 25923\, Deutschland
X-APPLE-STRUCTURED-LOCATION;VALUE=URI;X-ADDRESS=Norderstraße 6\, Süderlü
 gum\, S-H\, 25923\, Deutschland;X-APPLE-RADIUS=100;X-TITLE=Stephans Fahrsc
 hule\, Norderstraße 6\, 25923 Süderlügum:geo:0,0
END:VEVENT
BEGIN:VTIMEZONE
TZID:Europe/Berlin
X-LIC-LOCATION:Europe/Berlin
BEGIN:DAYLIGHT
DTSTART:20220327T030000
TZOFFSETFROM:+0100
TZOFFSETTO:+0200
TZNAME:CEST
END:DAYLIGHT
END:VTIMEZONE
END:VCALENDAR